BEGIN:VCALENDAR
VERSION:2.0
PRODID:-//ITmag - ECPv4.5.13//NONSGML v1.0//EN
CALSCALE:GREGORIAN
METHOD:PUBLISH
X-WR-CALNAME:ITmag
X-ORIGINAL-URL:http://www.itmag.sn
X-WR-CALDESC:Events for ITmag
BEGIN:VEVENT
DTSTART;VALUE=DATE:20141208
DTEND;VALUE=DATE:20141208
DTSTAMP:20260422T201548
CREATED:20141205T131052Z
LAST-MODIFIED:20141216T173912Z
UID:8178-1417996800-1418083199@www.itmag.sn
SUMMARY:Atelier sur la gouvernance du secteur du numérique au Sénégal
DESCRIPTION:A l’occasion de l’atelier intitulé « La gouvernance du secteur du numérique au Sénégal »\, qui sera organisé le 8 décembre 2014 par l’Organisation des professionnels des technologies de l’information et de la communication (OPTIC)\, en partenariat avec le Conseil national du patronat du Sénégal (CNP)\, dans le cadre de l’édition 2014 des Assises de l’entreprise\, une réflexion sera menée sur la gouvernance du secteur du numérique au Sénégal. Cette manifestation sera une opportunité pour proposer un contenu et des mesures pratiques pour la mise en place du Conseil national du numérique\,appelé IT Bord dans le Plan Sénégal Émergent (PSE). La table ronde sur l’IT Bord sera présentée par Ibrahima Wade\, Directeur général du Bureau opérationnel de suivi (BOS) du PSE. \n\n\n\n\n
URL:http://www.itmag.sn/agenda/atelier-sur-la-gouvernance-du-secteur-du-numerique-au-senegal/
LOCATION:Dakar\, Senegal
CATEGORIES:AGENDA
ATTACH;FMTTYPE=image/png:http://www.itmag.sn/wp-content/uploads/2014/03/Journee-PME-TIC-OPTIC-09-04-2014.png
ORGANIZER;CN="OPTIC%20%3A%20Organisation%20des%20Professionnels%20des%20TIC":MAILTO:sp.optic@arc.sn
END:VEVENT
END:VCALENDAR